BEGIN:VCALENDAR
VERSION:2.0
PRODID:-//jEvents 2.0 for Joomla//EN
CALSCALE:GREGORIAN
METHOD:PUBLISH
BEGIN:VEVENT
UID:824bf6caccd736c975ce78a7bd6f728a
CATEGORIES:Tischtennis
CREATED:20190208T130606
SUMMARY:Tischtennis: SpVgg Besigheim 2 - TVA 3
DESCRIPTION:
DTSTAMP:20260423T175530
DTSTART:20190216T180000
DTEND:20190216T210000
SEQUENCE:0
TRANSP:OPAQUE
END:VEVENT
END:VCALENDAR