BEGIN:VCALENDAR
VERSION:2.0
PRODID:-//jEvents 2.0 for Joomla//EN
CALSCALE:GREGORIAN
METHOD:PUBLISH
BEGIN:VEVENT
UID:24ba8e30630dab5b3e34c06d8b349655
CATEGORIES:Fußball Aktive extern
CREATED:20190121T125327
SUMMARY:Fußball: TVA I - SGM Riexingen
LOCATION:Sportplatz Aldingen
DESCRIPTION:
DTSTAMP:20260422T024215
DTSTART:20190508T190000
DTEND:20190508T210000
SEQUENCE:0
TRANSP:OPAQUE
END:VEVENT
END:VCALENDAR