BEGIN:VCALENDAR
VERSION:2.0
PRODID:-//jEvents 2.0 for Joomla//EN
CALSCALE:GREGORIAN
METHOD:PUBLISH
BEGIN:VEVENT
UID:781fd93cc31462dc95726155bcbd299d
CATEGORIES:Tischtennis extern
CREATED:20181108T154444
SUMMARY:Tischtennis: TVA 3 - TSV Asperg 4
LOCATION:Pattonville
DESCRIPTION:
DTSTAMP:20260420T053522
DTSTART:20181117T180000
DTEND:20181117T210000
SEQUENCE:0
TRANSP:OPAQUE
END:VEVENT
END:VCALENDAR