BEGIN:VCALENDAR
VERSION:2.0
PRODID:-//jEvents 2.0 for Joomla//EN
CALSCALE:GREGORIAN
METHOD:PUBLISH
BEGIN:VEVENT
UID:4e790037b06786157221c227a1cecd3f
CATEGORIES:Tischtennis extern
CREATED:20181001T105830
SUMMARY:Tischtennis: TVA 2 - SKV Eglosheim 1
LOCATION:Pattonville
DESCRIPTION:
DTSTAMP:20260424T055847
DTSTART:20181007T090000
DTEND:20181007T120000
SEQUENCE:0
TRANSP:OPAQUE
END:VEVENT
END:VCALENDAR