BEGIN:VCALENDAR
VERSION:2.0
PRODID:-//jEvents 2.0 for Joomla//EN
CALSCALE:GREGORIAN
METHOD:PUBLISH
BEGIN:VEVENT
UID:2e3718bc1b999ff0da5b312c7d8392de
CATEGORIES:Fußball Aktive extern
CREATED:20180807T170500
SUMMARY:Fußball: TVA I - Spvgg 07 Ludwigsburg
LOCATION:Jahnsportplatz
DESCRIPTION:
DTSTAMP:20260425T220534
DTSTART:20180902T150000
DTEND:20180902T170000
SEQUENCE:0
TRANSP:OPAQUE
END:VEVENT
END:VCALENDAR