BEGIN:VCALENDAR
VERSION:2.0
PRODID:-//jEvents 2.0 for Joomla//EN
CALSCALE:GREGORIAN
METHOD:PUBLISH
BEGIN:VEVENT
UID:2dea430fcf7587af2177a14d3bde1098
CATEGORIES:Tischtennis
CREATED:20180312T102349
SUMMARY:Tischtennis U13: TV Großbottwar - TVA
DESCRIPTION:
DTSTAMP:20260424T191111
DTSTART:20180317T130000
DTEND:20180317T150000
SEQUENCE:0
TRANSP:OPAQUE
END:VEVENT
END:VCALENDAR