BEGIN:VCALENDAR
VERSION:2.0
PRODID:-//jEvents 2.0 for Joomla//EN
CALSCALE:GREGORIAN
METHOD:PUBLISH
BEGIN:VEVENT
UID:57de9249b49ad23670f39bba44e4c7f9
CATEGORIES:Tischtennis extern
CREATED:20170926T085208
SUMMARY:Tischtennis U18: TVA - TTV Erdmannhausen 1
LOCATION:Pattonville
DESCRIPTION:
DTSTAMP:20260425T173244
DTSTART:20170930T140000
DTEND:20170930T160000
SEQUENCE:0
TRANSP:OPAQUE
END:VEVENT
END:VCALENDAR