BEGIN:VCALENDAR
VERSION:2.0
PRODID:-//jEvents 2.0 for Joomla//EN
CALSCALE:GREGORIAN
METHOD:PUBLISH
BEGIN:VEVENT
UID:aeacdc738ef692b5a6d97268cdb6e25d
CATEGORIES:Tischtennis
CREATED:20170911T105942
SUMMARY:Tischtennis Sen40: TVA - TTV Ingersheim
LOCATION:Pattonville
DESCRIPTION:
DTSTAMP:20260421T181644
DTSTART:20170929T200000
DTEND:20170929T220000
SEQUENCE:0
TRANSP:OPAQUE
END:VEVENT
END:VCALENDAR