BEGIN:VCALENDAR
VERSION:2.0
PRODID:-//jEvents 2.0 for Joomla//EN
CALSCALE:GREGORIAN
METHOD:PUBLISH
BEGIN:VEVENT
UID:dd110dd9d4ff5d01e2ecd520c8a0e040
CATEGORIES:Fußball Aktive extern
CREATED:20170711T080551
SUMMARY:Fußball-Freundschaftsspiel: TVA I - KSV Hoheneck
LOCATION:Jahnsportplatz
DESCRIPTION:
DTSTAMP:20260421T005554
DTSTART:20170726T193000
DTEND:20170726T210000
SEQUENCE:0
TRANSP:OPAQUE
END:VEVENT
END:VCALENDAR