BEGIN:VCALENDAR
VERSION:2.0
PRODID:-//jEvents 2.0 for Joomla//EN
CALSCALE:GREGORIAN
METHOD:PUBLISH
BEGIN:VEVENT
UID:717ad98c5ad656f6335bc240c8521af8
CATEGORIES:Tischtennis
CREATED:20170307T151538
SUMMARY:Tischtennis: GSV Höpfigheim 1 - TVA 2
DESCRIPTION:
DTSTAMP:20260421T020230
DTSTART:20170311T190000
DTEND:20170311T220000
SEQUENCE:0
TRANSP:OPAQUE
END:VEVENT
END:VCALENDAR