BEGIN:VCALENDAR
VERSION:2.0
PRODID:-//jEvents 2.0 for Joomla//EN
CALSCALE:GREGORIAN
METHOD:PUBLISH
BEGIN:VEVENT
UID:6eb0964e3d902e0839779e09c105123d
CATEGORIES:Tischtennis extern
CREATED:20161018T090603
SUMMARY:Tischtennis U18-Pokal: TVA - TGV Winzerhausen
LOCATION:Pattonville
DESCRIPTION:Der Pokal hat seine eigenen Gesetze! Wir freuen uns über jede Unterstützung
  für die tolle Mannschaft des TVA!\n
X-ALT-DESC;FMTTYPE=text/html:<p>Der Pokal hat seine eigenen Gesetze! Wir freuen uns über jede Unterstütz
 ung für die tolle Mannschaft des TVA!</p>
DTSTAMP:20260421T140657
DTSTART:20161021T190000
DTEND:20161021T210000
SEQUENCE:0
TRANSP:OPAQUE
END:VEVENT
END:VCALENDAR