BEGIN:VCALENDAR
VERSION:2.0
PRODID:-//jEvents 2.0 for Joomla//EN
CALSCALE:GREGORIAN
METHOD:PUBLISH
BEGIN:VEVENT
UID:6cb16c2c05d48703da4db5d75b5a06d8
CATEGORIES:Fußball Aktive extern
CREATED:20160725T174251
SUMMARY:Fußball: TVA I - SV Perouse
LOCATION:Jahnsportplatz
DESCRIPTION:
DTSTAMP:20260423T183554
DTSTART:20161127T143000
DTEND:20161127T163000
SEQUENCE:0
TRANSP:OPAQUE
END:VEVENT
END:VCALENDAR