BEGIN:VCALENDAR
VERSION:2.0
PRODID:-//jEvents 2.0 for Joomla//EN
CALSCALE:GREGORIAN
METHOD:PUBLISH
BEGIN:VEVENT
UID:01212c7b177651bcf9ffe11f7a663695
CATEGORIES:Tischtennis extern
CREATED:20160223T110414
SUMMARY:Tischtennis: TVA 2 - TV Tamm 1
LOCATION:Pattonville
DESCRIPTION:
DTSTAMP:20260423T083958
DTSTART:20160228T090000
DTEND:20160228T110000
SEQUENCE:0
TRANSP:OPAQUE
END:VEVENT
END:VCALENDAR