BEGIN:VCALENDAR
VERSION:2.0
PRODID:-//jEvents 2.0 for Joomla//EN
CALSCALE:GREGORIAN
METHOD:PUBLISH
BEGIN:VEVENT
UID:07caea6c077f3f2deb0255fc228acaf6
CATEGORIES:Fußball Aktive extern
CREATED:20160131T124948
SUMMARY:Fußball: TVA 1 - SV Pattonville
LOCATION:Jahnsportplatz
DESCRIPTION:
DTSTAMP:20260420T205509
DTSTART:20160429T193000
DTEND:20160429T210000
SEQUENCE:0
TRANSP:OPAQUE
END:VEVENT
END:VCALENDAR