BEGIN:VCALENDAR
VERSION:2.0
PRODID:-//jEvents 2.0 for Joomla//EN
CALSCALE:GREGORIAN
METHOD:PUBLISH
BEGIN:VEVENT
UID:b46f91a719627f30daa9141fde82dcfd
CATEGORIES:Tischtennis extern
CREATED:20151123T093807
SUMMARY:Tischtennis Sen40: SpVgg Besigheim - TVA
DESCRIPTION:
DTSTAMP:20260424T144016
DTSTART:20151130T200000
DTEND:20151130T220000
SEQUENCE:0
TRANSP:OPAQUE
END:VEVENT
END:VCALENDAR