BEGIN:VCALENDAR
VERSION:2.0
PRODID:-//jEvents 2.0 for Joomla//EN
CALSCALE:GREGORIAN
METHOD:PUBLISH
BEGIN:VEVENT
UID:998490bff2c780bc1ed463882404c8ba
CATEGORIES:Tischtennis extern
CREATED:20151123T092903
SUMMARY:Tischtennis U18: TUG Hofen 1 - TVA 1
DESCRIPTION:
DTSTAMP:20260421T024715
DTSTART:20151128T103000
DTEND:20151128T123000
SEQUENCE:0
TRANSP:OPAQUE
END:VEVENT
END:VCALENDAR