BEGIN:VCALENDAR
VERSION:2.0
PRODID:-//jEvents 2.0 for Joomla//EN
CALSCALE:GREGORIAN
METHOD:PUBLISH
BEGIN:VEVENT
UID:10e7384c45402d6b1bc0ccc276e1729f
CATEGORIES:Tischtennis extern
CREATED:20151117T133800
SUMMARY:Tischtennis Pokal U18: Erdmannhausen 1 - TVA 1
DESCRIPTION:
DTSTAMP:20260422T235750
DTSTART:20151120T190000
DTEND:20151120T210000
SEQUENCE:0
TRANSP:OPAQUE
END:VEVENT
END:VCALENDAR