BEGIN:VCALENDAR
VERSION:2.0
PRODID:-//jEvents 2.0 for Joomla//EN
CALSCALE:GREGORIAN
METHOD:PUBLISH
BEGIN:VEVENT
UID:ae564e5079d3a2b8c4a9fffeda610abb
CATEGORIES:Tischtennis extern
CREATED:20151116T092858
SUMMARY:Tischtennis U18: TUS Freiberg 1 - TVA 1
DESCRIPTION:
DTSTAMP:20260420T150722
DTSTART:20151121T130000
DTEND:20151121T150000
SEQUENCE:0
TRANSP:OPAQUE
END:VEVENT
END:VCALENDAR