BEGIN:VCALENDAR
VERSION:2.0
PRODID:-//jEvents 2.0 for Joomla//EN
CALSCALE:GREGORIAN
METHOD:PUBLISH
BEGIN:VEVENT
UID:324af89f6ffd8f23fa45739d684223c5
CATEGORIES:Tischtennis extern
CREATED:20151102T095222
SUMMARY:Tischtennis: GSV Hemmingen 3 - TVA 3
DESCRIPTION:
DTSTAMP:20260424T191236
DTSTART:20151107T160000
DTEND:20151107T190000
SEQUENCE:0
TRANSP:OPAQUE
END:VEVENT
END:VCALENDAR