BEGIN:VCALENDAR
VERSION:2.0
PRODID:-//jEvents 2.0 for Joomla//EN
CALSCALE:GREGORIAN
METHOD:PUBLISH
BEGIN:VEVENT
UID:6723133f31f89c7439fc269c666f568e
CATEGORIES:Tischtennis extern
CREATED:20151019T093101
SUMMARY:Tischtennis U18: TVA 2 - TTV Pleidelsheim 1
LOCATION:Pattonville
DESCRIPTION:
DTSTAMP:20260422T044349
DTSTART:20151024T140000
DTEND:20151024T160000
SEQUENCE:0
TRANSP:OPAQUE
END:VEVENT
END:VCALENDAR