BEGIN:VCALENDAR
VERSION:2.0
PRODID:-//jEvents 2.0 for Joomla//EN
CALSCALE:GREGORIAN
METHOD:PUBLISH
BEGIN:VEVENT
UID:11f96d5cd83aef656e69c25c6b320839
CATEGORIES:Tischtennis extern
CREATED:20151012T092401
SUMMARY:Tischtennis Sen40: TSV Asperg 2 - TVA
DESCRIPTION:
DTSTAMP:20260426T004044
DTSTART:20151020T200000
DTEND:20151020T220000
SEQUENCE:0
TRANSP:OPAQUE
END:VEVENT
END:VCALENDAR