BEGIN:VCALENDAR
VERSION:2.0
PRODID:-//jEvents 2.0 for Joomla//EN
CALSCALE:GREGORIAN
METHOD:PUBLISH
BEGIN:VEVENT
UID:783896a52e5bc66109ec5d5f8a03e946
CATEGORIES:Tischtennis
CREATED:20201019T104411
SUMMARY:TT-Abteilungsversammlung
LOCATION:Online-Versammlung
DESCRIPTION:
DTSTAMP:20260420T133020
DTSTART:20201022T200000
DTEND:20201022T220000
SEQUENCE:0
TRANSP:OPAQUE
END:VEVENT
END:VCALENDAR